BEGIN:VCALENDAR
VERSION:2.0
PRODID:-//Tukios.com/
BEGIN:VEVENT
UID:6fee6b2e-f8dd-4f6f-a403-d0a910b84d37@www.hookerfuneralhome.com
DTSTAMP:20260421T121404Z
DTSTART:20260220T230000Z
DTEND:20260221T010000Z
SUMMARY:Visitation
DESCRIPTION:
URL:https://www.hookerfuneralhome.com/obituaries/michael-burney
LOCATION: 723 Franklin Street  Clarksville TN 37040
GEO:36.5297959;-87.3502804
END:VEVENT
END:VCALENDAR